BEGIN:VCALENDAR
METHOD:PUBLISH
VERSION:2.0
PRODID:-//Eventilla iCal Syndication//NONSGML Liana//EN
BEGIN:VEVENT
UID:55DRA@eventilla.com
DTSTAMP:20260611T060000Z
DTSTART:20260611T060000Z
DTEND:20260612T130000Z
SUMMARY:Prosessiturvallisuus ja riskien hallinta
DESCRIPTION:Tilaisuuden tavoitteena on tiedostaa osallistujille\, mitä prosessiturvallisuus on ja mitä kaikkea osa-alueita teollisuuslaitoksen prosessiturvallisuus sisältää. Miten prosessiturvallisuuden\, henkilöturvallisuuden\, kunnossapito-omaisuuden ja ympäristönäkökulman kokonaisuutta johdetaan ja hallitaan.\nKohderyhmä:\n\nTuotannosta ja kunnossapidosta vastaavat johtajat ja päälliköt\nTurvallisuudesta vastaavat johtajat ja päälliköt\nTuotantopäälliköt\nKäyttöinsinöörit\nTyösuojeluhenkilöstö\nKäytönvalvojat\nPalo- ja aluesuojelu\nRiskienhallinnan asiantuntijat\nLaatujärjestelmien asiantuntija\n\nKoulutus toteutetaan sekä lähiopetuksena että vuorovaikutteisesti etäyhteydellä\, jolloin opetukseen voi matkustus- tai muun rajoituksen voimassa ollessa osallistua työpaikalta tai kotoa.\nIlmoittautuminen viimeistään 28.5.2026 mennessä.\nOhjelma
LOCATION:POHTO Oulu + etänä TEAMS\, Graniittitie 6\, 90620\, Oulu\,
 Suomi
URL:http://koulutukset.pohto.fi/event/55DRA
END:VEVENT
END:VCALENDAR
