BEGIN:VCALENDAR
METHOD:PUBLISH
VERSION:2.0
PRODID:-//Eventilla iCal Syndication//NONSGML Liana//EN
BEGIN:VEVENT
UID:PoJ84@eventilla.com
DTSTAMP:20261211T070000Z
DTSTART:20261211T070000Z
DTEND:20261211T140000Z
SUMMARY:ATEX-räjähdysvaaralliset tilat
DESCRIPTION:\nTyönantajan velvollisuus on varmistaa työntekijöiden terveys ja turvallisuus työskenneltäessä räjähdysvaarallisissa tiloissa.\nKoulutuksen käytyään henkilö tuntee ATEX-tiloja koskevan standardin ja saa valmiudet työskennellä turvallisesti Ex-tiloissa\, niihin liittyvien laitteiden suunnittelussa ja kunnossapitoon liittyvissä asioissa.\nATEX-säädökset koskevat henkilöitä\, jotka työskentelevät Ex-tiloissa\, rakentavat tai suunnittelevat Ex-tiloja tai niihin asennettavia sähkö- tai automaatiolaitteita. Suosittelemme sähkö- ja automaatioalan henkilöille kouluttautumista 3 - 5 vuoden välein.\nKoulutuksen kohderyhmä:\n\nSähkö- ja automaatioasentajat\, päälliköt\, sähkökäytön/töidenjohtajat.\nSuunnittelijat\, sähkö- ja automaatio\, mekaniikka\, putkisto ja LVI-suunnittelijat.\nKäytönvalvojat\nTurvallisuusvastaavat kuten turvallisuuspäälliköt.\nRäjähdyssuojausasiakirjan laatijat ja ylläpitäjät.\nKone- ja LVI-puolen vastuuhenkilöt. (minimivaatimus)\nHenkilöt\, jotka määrittelevät ja hankkivat laitteita Ex-tiloihin. (rakennusurakoitsija)\nOsastopäälliköt niiltä osastoilta missä käsitellään palavia kaasuja\, nesteitä tai pölyjä.\nLaboratoriohenkilökunta\, mikäli laboratorioissa käsitellään palavia nesteitä tai pölyjä.\nTeollisuuslaitoksissa vaatimukset koskevat myös urakoitsijoita\, suunnittelijoita ja asentajia.\n\n \nOhjelma\nIlmoittautuminen viimeistään 27.11.2026\nKoulutus toteutetaan sekä lähiopetuksena että vuorovaikutteisesti etäyhteydellä\, jolloin opetukseen voi matkustus- tai muun rajoituksen voimassa ollessa osallistua työpaikalta tai kotoa.
LOCATION:Oulu\, Oulu\, Suomi
URL:http://koulutukset.pohto.fi/event/PoJ84
END:VEVENT
END:VCALENDAR
