BEGIN:VCALENDAR
METHOD:PUBLISH
VERSION:2.0
PRODID:-//Eventilla iCal Syndication//NONSGML Liana//EN
BEGIN:VEVENT
UID:Xz4KO@eventilla.com
DTSTAMP:20240918T053000Z
DTSTART:20240918T053000Z
DTEND:20240919T120000Z
SUMMARY:Laboratorioalan teemapäivät 2024
DESCRIPTION:Laboratorioalan teemapäivistä\non muodostunut laboratorioalan ammattilaisten jokavuotinen kohtaamispaikka\, missä kuullaan\, mitä alalla tapahtuu ja mitä on näköpiirissä. Päivien sisältö suunnitellaan yhdessä laboratorioalan ammattilaisten kanssa.\nVuosittaisten teemapäivien tavoitteena on tarkastella yhdessä laboratorioiden haasteita ja perehtyä ajankohtaisiin kehittämiskohteisiin ratkaisuineen. Ohjelma on vuorovaikutteinen ja keskusteleva\, jossa varaudutaan kommentoimaan puheenvuoroja ja kertomaan omista kokemuksista muille.\nTämän vuoden teemapäivillä käsittelemme Laboratoriotyöskentelyn tehostamista hyödyntäen järjestelmiä ja huomioiden henkilöstön hyvinvoinnin. Kuulemme puheenvuoroja laboratoriolaitteiden toimittajilta sekä yritysten omia ajankohtaisesityksiä\, joiden tavoitteena on antaa katsaus tämän hetken teknologiasta ja laboratorioiden toiminnoista sekä avata keskustelua omista kokemuksista. Lisäksi kuulemme\, miten työnohjaus voi tukea työhyvinvointia.\nKohderyhmänä ovat laboratorioalan ammattilaiset\n\n\nLaborantit/Laboratoriotyöntekijät\n\n\nEsihenkilöt\n\n\nKemistit\n\n\nMuut asiantuntijat\n\n\n \n \nOhjelma\n \nIlmoittaudu mukaan 10.9.2024 mennessä.
LOCATION:Radisson Blu Oulu\, Hallituskatu 1\, 90100\, Oulu
URL:http://koulutukset.pohto.fi/event/Xz4KO
END:VEVENT
END:VCALENDAR
