BEGIN:VCALENDAR
METHOD:PUBLISH
VERSION:2.0
PRODID:-//Eventilla iCal Syndication//NONSGML Liana//EN
BEGIN:VEVENT
UID:ao90N@eventilla.com
DTSTAMP:20261110T070000Z
DTSTART:20261110T070000Z
DTEND:20261111T133000Z
SUMMARY:Taajuusmuuttajat ABB ACS880 tekniikka ja huolto
DESCRIPTION:Koulutuksessa osallistujat perehdytetään:\n\nTaajuusmuuttajien toimintaperiaatteisiin\nKäyttökohtaisiin virityksiin\nOhjelmointiin\nHuoltoon\nVianetsintään\n\nKoulutus on tarkoitettu  taajuusmuuttajien suunnittelusta\, käyttöönotosta\, huollosta ja kunnossapidosta vastaaville sekä sähkö- ja automaatio kunnossapitoa tekeville henkilöille.\nKoulutus toteutetaan lähiopetuksena. \nKäytännön harjoitusten laadun varmistamiseksi osallistujamäärä on rajoitettu max. 10 henkilöön.\nIlmoittautumiset viimeistään 3.11.2026\n \nOhjelma
LOCATION:Oulu, POHTO\, Graniittitie 6\, 90620\, Oulu
URL:http://koulutukset.pohto.fi/event/ao90N
END:VEVENT
END:VCALENDAR
