BEGIN:VCALENDAR
METHOD:PUBLISH
VERSION:2.0
PRODID:-//Eventilla iCal Syndication//NONSGML Liana//EN
BEGIN:VEVENT
UID:oJOkv@eventilla.com
DTSTAMP:20260327T060000Z
DTSTART:20260327T060000Z
DTEND:20260327T140000Z
SUMMARY:Laippaliitosasentajan koulutus ja pätevöinti SFS EN 1591-4
DESCRIPTION:Laippaliitokset ja niiden oikea-oppinen asentaminen on erittäin tärkeässä roolissa tehtaan käynnissäpidon ja toimintavarmuuden kannalta.\nKoulutuksessa käydään läpi laippaliitoksien ja tiivisteiden teoriaa käytännön esimerkein\, joka antaa vahvan pohjan hyvän laippaliitoksen tekemiseen. Iltapäivällä keskitytään käytännön tekemiseen\, joka sisältää teoriakokeen ja asennuskokeen. Kokeiden hyväksytystä suorittamisesta saa pätevyystodistuksen. Pätevyys on voimassa 5 vuotta. EN 1591-4 standardin mukaisen koulutuksen todistus kelpaa koko Euroopassa todistuksena asentajan pätevyydestä.\nKoulutuksen tavoitteena:\n\nOppia laippaliitosten ja eri tiivistetyyppien erot\nKäydä läpi tiivisteiden valinta\, oikeaoppinen asennus ja turvallinen purkaminen \nHarjoitella asennuksen eri vaiheet harjoituslaitteistoillamme käyttäen asianmukaisia työkaluja ja välineitä\nKäydä läpi yleisimmät asennusvirheet ja niiden korjaamisen standardit ohjeiden hylkäysrajat huomioiden\nOppia eri liitosten oikeat kiristysmomentit ja vaatimukset tiiviin liitoksenaikaansaamiseksi\n\nKoulutuksen kohderyhmä:\n\nLaippaliitosten parissa työskentelevät asentajat\, valvojat  ja työnjohtajat\nSuunnittelutyötä tekevät henkilöt\n\nOhjelma\nIlmoittautuminen viimeistään 13.3.2026
LOCATION:POHTO Oy Oulu\, Graniittitie 6\, 90620\, Oulu\, Suomi
URL:http://koulutukset.pohto.fi/event/oJOkv
END:VEVENT
END:VCALENDAR
