BEGIN:VCALENDAR
METHOD:PUBLISH
VERSION:2.0
PRODID:-//Eventilla iCal Syndication//NONSGML Liana//EN
BEGIN:VEVENT
UID:wkPMD@eventilla.com
DTSTAMP:20260902T060000Z
DTSTART:20260902T060000Z
DTEND:20260903T130000Z
SUMMARY:Automaation kenttälaitteet ja ohjausjärjestelmät
DESCRIPTION:Teollisuuden kunnossapidossa myös sähköasentajat\, erikoisosaajat ja prosessinhoitajat tarvitsevat yhä useammin tietoa automaatiosta\, säätötekniikasta ja automaation kenttälaitteista.\nKoulutuksen tavoitteena on luoda kokonaiskuva prosessiteollisuuden automaatiosta\, automaatiojärjestelmistä\, kenttäväylistä sekä automaatioon liittyvistä PI-kaavioista\, instrumentoinnin piirikaavioista\, mittaus- ja säätöpiireistä.\nKurssin jälkeen henkilö ymmärtää prosessiautomaation kokonaisuuden kenttälaitteelta automaatiojärjestelmään asti. Henkilö pystyy selvittämään yksinkertaisen automaatiopiirin toiminnan PI-kaavion\, piirikaavion sekä piirikohtaisen ajotapaselostuksen avulla ja toimimaan yhteistyössä sähkö- ja automaatiokunnossapidon kanssa.\nKoulutuksen kohderyhmä:\n\nTeollisuuden käyttö ja kunnossapitohenkilöstö\nAutomaatiosta vastaavat\nSähkö- ja automaatiokunnossapidosta vastaavat\nSähkö- ja automaatioasentajat\nErikoisosaajat\n\nKoulutus järjestetään yhteistyössä Endress+Hauser Oy kanssa\nIlmoittautumiset viimeistään 19.8.2026.\nOhjelma
LOCATION:Oulu\, Oulu\, Suomi
URL:http://koulutukset.pohto.fi/event/wkPMD
END:VEVENT
END:VCALENDAR
